BEGIN:VCALENDAR
VERSION:2.0
PRODID:-//Margaret Craig - ECPv6.15.11//NONSGML v1.0//EN
CALSCALE:GREGORIAN
METHOD:PUBLISH
X-ORIGINAL-URL:https://margaretcraig.com
X-WR-CALDESC:Events for Margaret Craig
REFRESH-INTERVAL;VALUE=DURATION:PT1H
X-Robots-Tag:noindex
X-PUBLISHED-TTL:PT1H
BEGIN:VTIMEZONE
TZID:America/Chicago
BEGIN:DAYLIGHT
TZOFFSETFROM:-0600
TZOFFSETTO:-0500
TZNAME:CDT
DTSTART:20100314T080000
END:DAYLIGHT
BEGIN:STANDARD
TZOFFSETFROM:-0500
TZOFFSETTO:-0600
TZNAME:CST
DTSTART:20101107T070000
END:STANDARD
BEGIN:DAYLIGHT
TZOFFSETFROM:-0600
TZOFFSETTO:-0500
TZNAME:CDT
DTSTART:20110313T080000
END:DAYLIGHT
BEGIN:STANDARD
TZOFFSETFROM:-0500
TZOFFSETTO:-0600
TZNAME:CST
DTSTART:20111106T070000
END:STANDARD
BEGIN:DAYLIGHT
TZOFFSETFROM:-0600
TZOFFSETTO:-0500
TZNAME:CDT
DTSTART:20120311T080000
END:DAYLIGHT
BEGIN:STANDARD
TZOFFSETFROM:-0500
TZOFFSETTO:-0600
TZNAME:CST
DTSTART:20121104T070000
END:STANDARD
BEGIN:DAYLIGHT
TZOFFSETFROM:-0600
TZOFFSETTO:-0500
TZNAME:CDT
DTSTART:20130310T080000
END:DAYLIGHT
BEGIN:STANDARD
TZOFFSETFROM:-0500
TZOFFSETTO:-0600
TZNAME:CST
DTSTART:20131103T070000
END:STANDARD
BEGIN:DAYLIGHT
TZOFFSETFROM:-0600
TZOFFSETTO:-0500
TZNAME:CDT
DTSTART:20140309T080000
END:DAYLIGHT
BEGIN:STANDARD
TZOFFSETFROM:-0500
TZOFFSETTO:-0600
TZNAME:CST
DTSTART:20141102T070000
END:STANDARD
BEGIN:DAYLIGHT
TZOFFSETFROM:-0600
TZOFFSETTO:-0500
TZNAME:CDT
DTSTART:20150308T080000
END:DAYLIGHT
BEGIN:STANDARD
TZOFFSETFROM:-0500
TZOFFSETTO:-0600
TZNAME:CST
DTSTART:20151101T070000
END:STANDARD
END:VTIMEZONE
BEGIN:VEVENT
DTSTART;TZID=America/Chicago:20140111T190000
DTEND;TZID=America/Chicago:20140111T210000
DTSTAMP:20260423T195156
CREATED:20240723T201940Z
LAST-MODIFIED:20240723T201942Z
UID:4862-1389466800-1389474000@margaretcraig.com
SUMMARY:Margaret Craig at Burning Bones Press
DESCRIPTION:Artist Margaret Craig will be the first Burning Bones Press artist-in-residence for 2014\, January 6-10. She will conclude her week in Houston with a pop-up exhibit at the studio. Come meet her and learn more about her innovative printmaking processes. \n\n\n\nMargaret is Chair of Printmaking at the Southwest School of Art in San Antonio\, TX. She received an MFA in Printmaking from the University of Texas at San Antonio. \n\n\n\nShe invented Tar Gel Pressless Etching and has demonstrated that and other techniques at SCG and MAPC conferences. She is often involved in trade portfolios and exhibits locally and nationally; recently participating in the China Sanbao International Printmaking Exhibition and Symposium And the SGCI traveling members print exhibition. \n\n\n\nMargaret Craig – plastic bits vortex
URL:https://margaretcraig.com/event/margaret-craig-at-burning-bones-press/
LOCATION:Burning Bones Press\, 1518 Yale St #1\, Houston\, TX\, 77008\, United States
ATTACH;FMTTYPE=image/jpeg:https://margaretcraig.com/wp-content/uploads/2014/01/unnamed.jpg
END:VEVENT
BEGIN:VEVENT
DTSTART;TZID=America/Chicago:20131119T193000
DTEND;TZID=America/Chicago:20131119T220000
DTSTAMP:20260423T195156
CREATED:20240723T202743Z
LAST-MODIFIED:20240723T202837Z
UID:4864-1384889400-1384898400@margaretcraig.com
SUMMARY:PechaKucha: How to be an Expert in 300-year-old Information Technology (and make it contemporary)
DESCRIPTION:Margaret Craig will present How to be an Expert in 300-year-old Information Technology (and make it contemporary) at PechaKucha Night (Vol. 12) held at the Coates Chapel at the Southwest School of Art\, November 19\, 2013\, at 7:30pm. \n\n\n\nDoors open at 6:30 for a happy hour beforehand. Your $5 donation will help cover costs for complimentary food\, Alamo Beer\, and equipment. \n\n\n\nPechaKucha (Japanese for “chit chat”) was started in Tokyo in 2003 by Klein Dytham architecture “as an event for young designers to meet\, network\, and show their work in public.” It has now spread to over 700 cities. When it first came to San Antonio in February of 2011\, there were a little over 200 cities officially participating. PechaKucha events usually have between 6 and 11 participants; in San Antonio\, we typically have 8. We invite artists\, architects\, writers\, woodworkers\, journalists\, all kinds of designers\, and other creative professionals.
URL:https://margaretcraig.com/event/pechakucha-how-to-be-an-expert-in-300-year-old-information-technology-and-make-it-contemporary/
LOCATION:The Coates Chapel at the Southwest School of Art\, 300 Augusta Street\, San Antonio\, TX\, 78205\, United States
ATTACH;FMTTYPE=image/jpeg:https://margaretcraig.com/wp-content/uploads/2013/11/large_wide_PK12.jpg
END:VEVENT
BEGIN:VEVENT
DTSTART;TZID=America/Chicago:20130614T190000
DTEND;TZID=America/Chicago:20130614T220000
DTSTAMP:20260423T195156
CREATED:20240723T203400Z
LAST-MODIFIED:20240723T203836Z
UID:4868-1371236400-1371247200@margaretcraig.com
SUMMARY:Natürlich! TAKT group show opening (Berlin)
DESCRIPTION:kunstraum tapirproudly presents: \n\n\n\nNatürlich!group show \n\n\n\n©urated by Isabel Manalo \n\n\n\n14.06.-21.06.2013opening: Friday\, June 14\, 2013\, 19-22hopen hours: 15th\, 16th\, 18th 20th 16-19h \n\n\n\nwith:Dipti BondreFranco BubaniMeaghan ColesMargret CraigMark DicksonLaura Lindsay RosalbaKeith McDougallLiam McGarryCarmelo MidiliManuela MoralesYuria OkamuraSandra RadićIsabel RockJamie RodriguezLaura Lindsay RosalbaAmy SackstederChristine TylerPolly Yates \n\n\n\nNatürlich! \n\n\n\nOf course nature. Playing on the German word for ‘Naturally’\, it seemed appropriate to encapsulate a diverse group of work that coincidentally touch on notions of nature both real\, imagined or constructed. It is this coincidence and surprise element that led me to choose the works made by the Spring Takt artists group where nature is not limited to landscape or the environment but extends to examinations of human nature.
URL:https://margaretcraig.com/event/naturlich-takt-group-show-opening-berlin/
LOCATION:Takt Artist Residency Berlin\, Weserstraße 11\, Berlin\, 10247\, Germany
ATTACH;FMTTYPE=image/jpeg:https://margaretcraig.com/wp-content/uploads/2013/06/Natuerlich.jpg
END:VEVENT
BEGIN:VEVENT
DTSTART;TZID=America/Chicago:20130613T180000
DTEND;TZID=America/Chicago:20130613T200000
DTSTAMP:20260423T195156
CREATED:20240723T204405Z
LAST-MODIFIED:20240723T204406Z
UID:4872-1371146400-1371153600@margaretcraig.com
SUMMARY:PRINTTX 2013 (Houston) [through Sept. 14]
DESCRIPTION:Work by Margaret Craig will appear in PRINTTX 2013. \n\n\n\nPRINTTX is a juried exhibition of contemporary Texas printmaking organized by PrintMatters and the Museum of Printing History as part of PrintHouston 2013. The show is juried by Peter S. Briggs\, the Helen DeVitt Jones Curator of Art at the Museum of Texas Tech University. \n\n\n\nForty-five artists submitted prints. Briggs chose 23 original prints by 20 artists. The artists chosen represent both emerging and established artists from throughout Texas\, including from Kingsville\, Houston\, San Antonio\, Austin and Dallas. \n\n\n\nThe opening reception is on June 13\, 6-8 p.m. \n\n\n\nOn view through Sept. 14. \n\n\n\nThe Museum is open Tuesday through Saturday\, 10:00 A.M.-5:00 P.M.
URL:https://margaretcraig.com/event/printtx-2013-houston-through-sept-14/
LOCATION:Museum of Printing History\, 1324 West Clay Street\, Houston\, TX\, 77019\, United States
ATTACH;FMTTYPE=image/jpeg:https://margaretcraig.com/wp-content/uploads/2013/06/PRINTTXlogo.jpg
END:VEVENT
BEGIN:VEVENT
DTSTART;TZID=America/Chicago:20130607T190000
DTEND;TZID=America/Chicago:20130607T210000
DTSTAMP:20260423T195156
CREATED:20240723T204956Z
LAST-MODIFIED:20240723T204957Z
UID:4874-1370631600-1370638800@margaretcraig.com
SUMMARY:Below from Above (Berlin)
DESCRIPTION:After weeks of restoration\, The Cellar Gallery is ready to open for the first time presenting ‘Below from above’\, a group show featuring 12 international artists currently living in Berlin. \n\n\n\nThe Cellar Gallery would like to invite you to a ONE NIGHT ONLY exhibition with live music by Stephen Danger Prescott. \n\n\n\nFeatured artists:MEAGHAN COLES (AUSTRALIA)MARGARET CRAIG (USA)KEITH MCDOUGALL (AUSTRALIA)LIAM MCGARRY (UK)MANUELA MORALES (CHILE)YURIA OKAMURA (AUSTRALIA)SAMMANEH POURSH (AUSTRALIA)ISABEL ROCK (UK)JAMIE RODRIGUEZ (USA)JACK ROWLAND (AUSTRALIA)AMY SACKSTEDER (USA)CHRISTINE TYLER (USA) \n\n\n\nRecently transformed\, The Cellar Gallery aims to uncover the hidden artists currently living in Berlin. Artists flock from all around the world to create\, be inspired\, engage themselves in the biggest ‘artist hub of the world’\, Berlin. Hidden away in their studio artists work in isolation to create visual displays of their interpretation of the world. \n\n\n\nThe Cellar Gallery gives the opportunity to artists to display their artworks in a ‘one night only’ visual & musical exhibition. The underground space celebrates artists with an intimate opening night allowing viewers into their creative visual world. \n\n\n\nPlease note that the time for this event is 7:00 pm until 9:00 pm in UTC+02 \n\n\n\nEvent Flier\, The Cellar Gallery\, June 7\, 2013\, Berlin
URL:https://margaretcraig.com/event/below-from-above-berlin/
LOCATION:The Cellar Gallery (basement of Café Lyon)\, Boxhagener Straße 85\, Berlin\, 10245\, Germany
ATTACH;FMTTYPE=image/jpeg:https://margaretcraig.com/wp-content/uploads/2013/06/cellary-gallery-flier.jpg
END:VEVENT
BEGIN:VEVENT
DTSTART;TZID=America/Chicago:20121205T160000
DTEND;TZID=America/Chicago:20121205T233000
DTSTAMP:20260423T195156
CREATED:20240723T205853Z
LAST-MODIFIED:20240723T205854Z
UID:4876-1354723200-1354750200@margaretcraig.com
SUMMARY:Bluestockings
DESCRIPTION:Works by Margaret Craig and other Artists at Bluestockings\, Lower East Side of Manhattan.
URL:https://margaretcraig.com/event/bluestockings/
LOCATION:Bluestockings\, 172 Allen Street\, New York\, NY\, 10002\, United States
END:VEVENT
BEGIN:VEVENT
DTSTART;TZID=America/Chicago:20121117T180000
DTEND;TZID=America/Chicago:20121117T210000
DTSTAMP:20260423T195156
CREATED:20240723T210211Z
LAST-MODIFIED:20240723T210212Z
UID:4881-1353175200-1353186000@margaretcraig.com
SUMMARY:Pop up show and tell at Burning Bones Press\, Houston
DESCRIPTION:A special opportunity to meet fellow print artist Margaret Craig\, Chair of Painting\, Drawing and Printmaking at Southwest School of Art\, San Antonio. She will be stopping by Burning Bones to show us the watercolor monotype and digital transfer using Yupo she recently demonstrated at the Mid-Atlantic Print Conference. She will also discuss Yupo collagraphs and share examples of her work.
URL:https://margaretcraig.com/event/pop-up-show-and-tell-at-burning-bones-press-houston/
LOCATION:Burning Bones Press\, 1518 Yale St #1\, Houston\, TX\, 77008\, United States
END:VEVENT
BEGIN:VEVENT
DTSTART;TZID=America/Chicago:20121103T130000
DTEND;TZID=America/Chicago:20121103T160000
DTSTAMP:20260423T195156
CREATED:20240723T210615Z
LAST-MODIFIED:20240723T210616Z
UID:4883-1351947600-1351958400@margaretcraig.com
SUMMARY:Demo 6: The Yupo Matrix and Digital Ground: Off-Market Product Use for Innovative Printmaking
DESCRIPTION:This demo will show printmakers how to use Yupo Paper and Digital Ground for Non-Porous Surfaces for off market purposes\, producing innovative prints. Yupo is a plastic watercolor “paper” developed for the commercial graphics industry that can become a matrix for watercolor monoprint\, collagraph\, and digital transfer. Yupo will be used for a watercolor monotype\, and then create a collagraph\, printing the image with damp paper and a press. With this flexible base\, digital ground for non-porous surfaces will be used to put inked plates through an unmodified inkjet printer for a combination of conventional and alternative printing processes; it will also be printed with wet paper and an etching press. This new material for the matrix will marry a spectrum of traditional and alternative creation as well as show digital transfer.
URL:https://margaretcraig.com/event/demo-6-the-yupo-matrix-and-digital-ground-off-market-product-use-for-innovative-printmaking/
LOCATION:Mid America Print Council Conference\, Cape Gerardeau\, Southeast Missouri State University\, 1 University Plaza\, Cape Girardeau\, MO\, 63701\, United States
END:VEVENT
BEGIN:VEVENT
DTSTART;TZID=America/Chicago:20120908T120000
DTEND;TZID=America/Chicago:20120908T120000
DTSTAMP:20260423T195156
CREATED:20240723T211628Z
LAST-MODIFIED:20240723T211629Z
UID:4885-1347105600-1347105600@margaretcraig.com
SUMMARY:Art to the Power of Ten
DESCRIPTION:Support the McNay’s contemporary art collection at this second annual raffle and sale. The evening features a raffle presenting ten works of art by ten of San Antonio’s finest—all participants in the McNay’s Artists Looking at Art series. The ten artists are present all evening with additional works for sale—everything from paintings and prints to sculptures and photographs. Bohanan’s Prime Steak and Seafood enhances the festivities with creative food and drink. \n\n\n\nAll proceeds from Art to the Power of Ten benefit the McNay’s acquisition fund for contemporary art. \n\n\n\nRSVP by Friday\, August 31\, 2012
URL:https://margaretcraig.com/event/art-to-the-power-of-ten/
LOCATION:Leeper Auditorium\, McNay Art Museum\, 6000 N New Braunfels Ave\, San Antonio\, TX\, 78209\, United States
END:VEVENT
BEGIN:VEVENT
DTSTART;TZID=America/Chicago:20111111T120000
DTEND;TZID=America/Chicago:20111111T120000
DTSTAMP:20260423T195156
CREATED:20240723T214410Z
LAST-MODIFIED:20240723T214411Z
UID:4887-1321012800-1321012800@margaretcraig.com
SUMMARY:Malleable Objects
DESCRIPTION:Malleable Objects are creatures lifted from the sea to fall flat from lack of watery support\, otherworldly landscapes created for things that might exist. They are endlessly twisted objects reminiscent of an extrinsic humanity. \n\n\n\nMargaret Craig – Malleable Objects -moss
URL:https://margaretcraig.com/event/malleable-objects/
LOCATION:REM Gallery\, 219 E Park Ave\, San Antonio\, TX\, 78212\, United States
ATTACH;FMTTYPE=image/jpeg:https://margaretcraig.com/wp-content/uploads/2024/07/margaret-craig-malleable-objects-moss.jpg
END:VEVENT
BEGIN:VEVENT
DTSTART;TZID=America/Chicago:20111007T120000
DTEND;TZID=America/Chicago:20111008T120000
DTSTAMP:20260423T195156
CREATED:20240723T215557Z
LAST-MODIFIED:20240723T215558Z
UID:4894-1317988800-1318075200@margaretcraig.com
SUMMARY:Attention to Detail\, Visual Arts Bldg\, SAC
DESCRIPTION:Please join us this Friday\, October 14\, in the Visual Arts Gallery at San Antonio College.“Attention to Detail”Opening Reception\, 5 – 8 pm \n\n\n\nIn addition\, galleries of Tobin Hill will be open from 6-10pm for theTobin Hill Second Friday Art WalkTrolley service provided.www.tobinarts.com
URL:https://margaretcraig.com/event/attention-to-detail-visual-arts-bldg-sac/
LOCATION:Visual Arts Bldg San Antonio College\, 950 Lewis St\, San Antonio\, TX\, 78212\, United States
ATTACH;FMTTYPE=image/png:https://margaretcraig.com/wp-content/uploads/2011/10/image.png
END:VEVENT
END:VCALENDAR